BEGIN:VCALENDAR
VERSION:2.0
PRODID:-//Tukios.com/
BEGIN:VEVENT
UID:a2c274b3-2027-4c7e-9fd4-bda5d1fd902f@www.eepicklefuneralhome.com
DTSTAMP:20260422T014159Z
DTSTART:20260422T190000Z
DTEND:20260422T200000Z
SUMMARY:Funeral Service
DESCRIPTION:
URL:https://www.eepicklefuneralhome.com/obituaries/sharri-pace
LOCATION: 500 3rd Ave S  Amory MS 38821
GEO:33.9848331;-88.483726
END:VEVENT
END:VCALENDAR