BEGIN:VCALENDAR
VERSION:2.0
PRODID:-//Tukios.com/
BEGIN:VEVENT
UID:c145c511-32eb-4a9b-8312-646fa02a437e@www.eepicklefuneralhome.com
DTSTAMP:20260422T014159Z
DTSTART:20260422T170000Z
DTEND:20260422T190000Z
SUMMARY:Visitation
DESCRIPTION:
URL:https://www.eepicklefuneralhome.com/obituaries/sharri-pace
LOCATION: 500 3rd Ave S  Amory MS 38821
GEO:33.9848331;-88.483726
END:VEVENT
END:VCALENDAR